Package: Heatplus Version: 3.0.0 Command: /Library/Frameworks/R.framework/Versions/Current/Resources/bin/R CMD check --install=check:Heatplus.install-out.txt --library=/Library/Frameworks/R.framework/Versions/Current/Resources/library --no-vignettes --timings Heatplus_3.0.0.tar.gz StartedAt: 2021-10-14 19:56:11 -0400 (Thu, 14 Oct 2021) EndedAt: 2021-10-14 19:56:48 -0400 (Thu, 14 Oct 2021) EllapsedTime: 37.6 seconds RetCode: 0 Status: OK CheckDir: Heatplus.Rcheck Warnings: 0