Package: Heatplus Version: 3.0.0 Command: /home/biocbuild/bbs-3.13-bioc/R/bin/R CMD build --keep-empty-dirs --no-resave-data Heatplus StartedAt: 2021-10-14 07:27:33 -0400 (Thu, 14 Oct 2021) EndedAt: 2021-10-14 07:27:46 -0400 (Thu, 14 Oct 2021) EllapsedTime: 12.6 seconds RetCode: 0 Status: OK PackageFile: Heatplus_3.0.0.tar.gz PackageFileSize: 882.8 KiB