Package: HiCDCPlus Version: 1.0.0 Command: rm -rf HiCDCPlus.buildbin-libdir && mkdir HiCDCPlus.buildbin-libdir && /Users/biocbuild/BBS/utils/build-universal.sh HiCDCPlus_1.0.0.tar.gz /Library/Frameworks/R.framework/Versions/Current/Resources/bin/R HiCDCPlus.buildbin-libdir StartedAt: 2021-10-15 02:42:57 -0400 (Fri, 15 Oct 2021) EndedAt: 2021-10-15 02:44:08 -0400 (Fri, 15 Oct 2021) EllapsedTime: 71.0 seconds RetCode: 0 Status: OK PackageFile: HiCDCPlus_1.0.0.tgz PackageFileSize: 1.413 MiB