Package: HiCDCPlus Version: 1.0.0 Command: /Library/Frameworks/R.framework/Versions/Current/Resources/bin/R CMD build --keep-empty-dirs --no-resave-data HiCDCPlus StartedAt: 2021-10-14 12:35:52 -0400 (Thu, 14 Oct 2021) EndedAt: 2021-10-14 12:38:41 -0400 (Thu, 14 Oct 2021) EllapsedTime: 168.9 seconds RetCode: 0 Status: OK PackageFile: HiCDCPlus_1.0.0.tar.gz PackageFileSize: 1.183 MiB