Package: HiCDCPlus Version: 1.0.0 Command: /home/biocbuild/bbs-3.13-bioc/R/bin/R CMD INSTALL HiCDCPlus StartedAt: 2021-10-14 06:33:01 -0400 (Thu, 14 Oct 2021) EndedAt: 2021-10-14 06:33:43 -0400 (Thu, 14 Oct 2021) EllapsedTime: 41.9 seconds RetCode: 0 Status: OK