Package: HilbertCurve Version: 1.22.0 Command: /home/biocbuild/bbs-3.13-bioc/R/bin/R CMD check --install=check:HilbertCurve.install-out.txt --library=/home/biocbuild/bbs-3.13-bioc/R/library --no-vignettes --timings HilbertCurve_1.22.0.tar.gz StartedAt: 2021-10-14 10:10:26 -0400 (Thu, 14 Oct 2021) EndedAt: 2021-10-14 10:12:24 -0400 (Thu, 14 Oct 2021) EllapsedTime: 118.4 seconds RetCode: 0 Status: OK CheckDir: HilbertCurve.Rcheck Warnings: 0