Package: HilbertVis Version: 1.50.0 Command: /home/biocbuild/bbs-3.13-bioc/R/bin/R CMD INSTALL HilbertVis StartedAt: 2021-10-14 06:02:34 -0400 (Thu, 14 Oct 2021) EndedAt: 2021-10-14 06:02:45 -0400 (Thu, 14 Oct 2021) EllapsedTime: 10.4 seconds RetCode: 0 Status: OK