Package: HilbertVisGUI Version: 1.50.0 Command: C:\Users\biocbuild\bbs-3.13-bioc\R\bin\R.exe --arch x64 CMD INSTALL --no-multiarch HilbertVisGUI StartedAt: 2021-10-14 07:01:52 -0400 (Thu, 14 Oct 2021) EndedAt: 2021-10-14 07:03:02 -0400 (Thu, 14 Oct 2021) EllapsedTime: 69.6 seconds RetCode: 1 Status: ERROR