Package: HubPub Version: 1.0.0 Command: /home/biocbuild/bbs-3.13-bioc/R/bin/R CMD check --install=check:HubPub.install-out.txt --library=/home/biocbuild/bbs-3.13-bioc/R/library --no-vignettes --timings HubPub_1.0.0.tar.gz StartedAt: 2021-10-14 10:12:26 -0400 (Thu, 14 Oct 2021) EndedAt: 2021-10-14 10:14:06 -0400 (Thu, 14 Oct 2021) EllapsedTime: 100.2 seconds RetCode: 0 Status: OK CheckDir: HubPub.Rcheck Warnings: 0