Package: HubPub Version: 1.0.0 Command: chmod a+r HubPub -R && C:\Users\biocbuild\bbs-3.13-bioc\R\bin\R.exe CMD build --keep-empty-dirs --no-resave-data HubPub StartedAt: 2021-10-14 14:57:09 -0400 (Thu, 14 Oct 2021) EndedAt: 2021-10-14 14:58:00 -0400 (Thu, 14 Oct 2021) EllapsedTime: 50.9 seconds RetCode: 0 Status: OK PackageFile: HubPub_1.0.0.tar.gz PackageFileSize: 288.9 KiB