Package: HybridMTest Version: 1.36.0 Command: /Library/Frameworks/R.framework/Versions/Current/Resources/bin/R CMD INSTALL HybridMTest StartedAt: 2021-10-14 08:32:03 -0400 (Thu, 14 Oct 2021) EndedAt: 2021-10-14 08:32:43 -0400 (Thu, 14 Oct 2021) EllapsedTime: 40.3 seconds RetCode: 0 Status: OK