Package: IMAS Version: 1.16.0 Command: C:\cygwin\bin\curl.exe -O http://155.52.207.165/BBS/3.13/bioc/src/contrib/IMAS_1.16.0.tar.gz && rm -rf IMAS.buildbin-libdir && mkdir IMAS.buildbin-libdir && C:\Users\biocbuild\bbs-3.13-bioc\R\bin\R.exe CMD INSTALL --merge-multiarch --build --library=IMAS.buildbin-libdir IMAS_1.16.0.tar.gz && C:\Users\biocbuild\bbs-3.13-bioc\R\bin\R.exe CMD INSTALL IMAS_1.16.0.zip && rm IMAS_1.16.0.tar.gz IMAS_1.16.0.zip StartedAt: 2021-10-14 10:30:51 -0400 (Thu, 14 Oct 2021) EndedAt: 2021-10-14 10:32:48 -0400 (Thu, 14 Oct 2021) EllapsedTime: 117.0 seconds RetCode: 0 Status: OK