git_url: https://git.bioconductor.org/packages/IMPCdata git_branch: RELEASE_3_13 git_last_commit: f7fdef4 git_last_commit_date: 2021-05-19 12:09:07 -0400 (Wed, 19 May 2021) Package: IMPCdata Version: 1.28.0 Maintainer: Jeremy Mason MaintainerEmail: jmason at ebi.ac.uk