Package: IMPCdata Version: 1.28.0 Command: /Library/Frameworks/R.framework/Versions/Current/Resources/bin/R CMD build --keep-empty-dirs --no-resave-data IMPCdata StartedAt: 2021-10-14 12:44:00 -0400 (Thu, 14 Oct 2021) EndedAt: 2021-10-14 12:45:27 -0400 (Thu, 14 Oct 2021) EllapsedTime: 87.0 seconds RetCode: 0 Status: OK PackageFile: IMPCdata_1.28.0.tar.gz PackageFileSize: 147.9 KiB