Package: IMPCdata Version: 1.28.0 Command: /home/biocbuild/bbs-3.13-bioc/R/bin/R CMD build --keep-empty-dirs --no-resave-data IMPCdata StartedAt: 2021-10-14 07:31:23 -0400 (Thu, 14 Oct 2021) EndedAt: 2021-10-14 07:32:34 -0400 (Thu, 14 Oct 2021) EllapsedTime: 71.5 seconds RetCode: 0 Status: OK PackageFile: IMPCdata_1.28.0.tar.gz PackageFileSize: 142.2 KiB