Package: IMPCdata Version: 1.28.0 Command: /home/biocbuild/bbs-3.13-bioc/R/bin/R CMD INSTALL IMPCdata StartedAt: 2021-10-14 06:02:01 -0400 (Thu, 14 Oct 2021) EndedAt: 2021-10-14 06:02:15 -0400 (Thu, 14 Oct 2021) EllapsedTime: 14.2 seconds RetCode: 0 Status: OK