Package: IMPCdata Version: 1.28.0 Command: chmod a+r IMPCdata -R && C:\Users\biocbuild\bbs-3.13-bioc\R\bin\R.exe CMD build --keep-empty-dirs --no-resave-data IMPCdata StartedAt: 2021-10-14 15:03:45 -0400 (Thu, 14 Oct 2021) EndedAt: 2021-10-14 15:04:44 -0400 (Thu, 14 Oct 2021) EllapsedTime: 59.7 seconds RetCode: 0 Status: OK PackageFile: IMPCdata_1.28.0.tar.gz PackageFileSize: 154.4 KiB