Package: IMPCdata Version: 1.28.0 Command: C:\Users\biocbuild\bbs-3.13-bioc\R\bin\R.exe CMD check --force-multiarch --install=check:IMPCdata.install-out.txt --library=C:\Users\biocbuild\bbs-3.13-bioc\R\library --no-vignettes --timings IMPCdata_1.28.0.tar.gz StartedAt: 2021-10-15 00:42:22 -0400 (Fri, 15 Oct 2021) EndedAt: 2021-10-15 00:44:24 -0400 (Fri, 15 Oct 2021) EllapsedTime: 121.7 seconds RetCode: 0 Status: OK CheckDir: IMPCdata.Rcheck Warnings: 0