Package: IMPCdata Version: 1.28.0 Command: C:\cygwin\bin\curl.exe -O http://155.52.207.165/BBS/3.13/bioc/src/contrib/IMPCdata_1.28.0.tar.gz && rm -rf IMPCdata.buildbin-libdir && mkdir IMPCdata.buildbin-libdir && C:\Users\biocbuild\bbs-3.13-bioc\R\bin\R.exe CMD INSTALL --merge-multiarch --build --library=IMPCdata.buildbin-libdir IMPCdata_1.28.0.tar.gz && C:\Users\biocbuild\bbs-3.13-bioc\R\bin\R.exe CMD INSTALL IMPCdata_1.28.0.zip && rm IMPCdata_1.28.0.tar.gz IMPCdata_1.28.0.zip StartedAt: 2021-10-14 06:49:56 -0400 (Thu, 14 Oct 2021) EndedAt: 2021-10-14 06:51:23 -0400 (Thu, 14 Oct 2021) EllapsedTime: 87.3 seconds RetCode: 0 Status: OK