Package: INSPEcT Version: 1.22.0 Command: chmod a+r INSPEcT -R && C:\Users\biocbuild\bbs-3.13-bioc\R\bin\R.exe CMD build --keep-empty-dirs --no-resave-data INSPEcT StartedAt: 2021-10-14 15:05:00 -0400 (Thu, 14 Oct 2021) EndedAt: 2021-10-14 15:14:15 -0400 (Thu, 14 Oct 2021) EllapsedTime: 554.9 seconds RetCode: 0 Status: OK PackageFile: INSPEcT_1.22.0.tar.gz PackageFileSize: 7.03 MiB