git_url: https://git.bioconductor.org/packages/IONiseR git_branch: RELEASE_3_13 git_last_commit: e9be4a9 git_last_commit_date: 2021-05-19 12:14:13 -0400 (Wed, 19 May 2021) Package: IONiseR Version: 2.16.0 Maintainer: Mike Smith MaintainerEmail: grimbough at gmail.com