Package: IONiseR Version: 2.16.0 Command: /home/biocbuild/bbs-3.13-bioc/R/bin/R CMD check --install=check:IONiseR.install-out.txt --library=/home/biocbuild/bbs-3.13-bioc/R/library --no-vignettes --timings IONiseR_2.16.0.tar.gz StartedAt: 2021-10-14 10:17:19 -0400 (Thu, 14 Oct 2021) EndedAt: 2021-10-14 10:21:00 -0400 (Thu, 14 Oct 2021) EllapsedTime: 220.6 seconds RetCode: 0 Status: OK CheckDir: IONiseR.Rcheck Warnings: 0