Package: IONiseR Version: 2.16.0 Command: chmod a+r IONiseR -R && C:\Users\biocbuild\bbs-3.13-bioc\R\bin\R.exe CMD build --keep-empty-dirs --no-resave-data IONiseR StartedAt: 2021-10-14 15:07:03 -0400 (Thu, 14 Oct 2021) EndedAt: 2021-10-14 15:09:19 -0400 (Thu, 14 Oct 2021) EllapsedTime: 136.0 seconds RetCode: 0 Status: OK PackageFile: IONiseR_2.16.0.tar.gz PackageFileSize: 2.479 MiB