Package: IONiseR Version: 2.16.0 Command: C:\Users\biocbuild\bbs-3.13-bioc\R\bin\R.exe CMD check --force-multiarch --install=check:IONiseR.install-out.txt --library=C:\Users\biocbuild\bbs-3.13-bioc\R\library --no-vignettes --timings IONiseR_2.16.0.tar.gz StartedAt: 2021-10-15 00:50:34 -0400 (Fri, 15 Oct 2021) EndedAt: 2021-10-15 00:56:31 -0400 (Fri, 15 Oct 2021) EllapsedTime: 357.3 seconds RetCode: 0 Status: OK CheckDir: IONiseR.Rcheck Warnings: 0