Package: IRanges Version: 2.26.0 Command: rm -rf IRanges.buildbin-libdir && mkdir IRanges.buildbin-libdir && /Users/biocbuild/BBS/utils/build-universal.sh IRanges_2.26.0.tar.gz /Library/Frameworks/R.framework/Versions/Current/Resources/bin/R IRanges.buildbin-libdir StartedAt: 2021-10-15 02:49:57 -0400 (Fri, 15 Oct 2021) EndedAt: 2021-10-15 02:51:07 -0400 (Fri, 15 Oct 2021) EllapsedTime: 69.9 seconds RetCode: 0 Status: OK PackageFile: IRanges_2.26.0.tgz PackageFileSize: 2.147 MiB