Package: IRanges Version: 2.26.0 Command: /Library/Frameworks/R.framework/Versions/Current/Resources/bin/R CMD check --install=check:IRanges.install-out.txt --library=/Library/Frameworks/R.framework/Versions/Current/Resources/library --no-vignettes --timings IRanges_2.26.0.tar.gz StartedAt: 2021-10-14 20:17:19 -0400 (Thu, 14 Oct 2021) EndedAt: 2021-10-14 20:21:58 -0400 (Thu, 14 Oct 2021) EllapsedTime: 279.4 seconds RetCode: 0 Status: WARNINGS CheckDir: IRanges.Rcheck Warnings: 3