Package: IRanges Version: 2.26.0 Command: /Library/Frameworks/R.framework/Versions/Current/Resources/bin/R CMD INSTALL IRanges StartedAt: 2021-10-14 08:24:18 -0400 (Thu, 14 Oct 2021) EndedAt: 2021-10-14 08:25:56 -0400 (Thu, 14 Oct 2021) EllapsedTime: 98.2 seconds RetCode: 0 Status: OK