Package: ITALICS Version: 2.52.0 Command: /Library/Frameworks/R.framework/Versions/Current/Resources/bin/R CMD check --install=check:ITALICS.install-out.txt --library=/Library/Frameworks/R.framework/Versions/Current/Resources/library --no-vignettes --timings ITALICS_2.52.0.tar.gz StartedAt: 2021-10-14 20:21:03 -0400 (Thu, 14 Oct 2021) EndedAt: 2021-10-14 20:24:30 -0400 (Thu, 14 Oct 2021) EllapsedTime: 206.4 seconds RetCode: 0 Status: OK CheckDir: ITALICS.Rcheck Warnings: 0