git_url: https://git.bioconductor.org/packages/IVAS git_branch: RELEASE_3_13 git_last_commit: 72bbdb6 git_last_commit_date: 2021-05-19 12:10:52 -0400 (Wed, 19 May 2021) Package: IVAS Version: 2.12.0 Maintainer: Seonggyun Han MaintainerEmail: hangost at ssu.ac.kr