Package: IVAS Version: 2.12.0 Command: rm -rf IVAS.buildbin-libdir && mkdir IVAS.buildbin-libdir && C:\Users\biocbuild\bbs-3.13-bioc\R\bin\R.exe CMD INSTALL --merge-multiarch --build --library=IVAS.buildbin-libdir IVAS_2.12.0.tar.gz StartedAt: 2021-10-15 10:01:05 -0400 (Fri, 15 Oct 2021) EndedAt: 2021-10-15 10:02:36 -0400 (Fri, 15 Oct 2021) EllapsedTime: 90.8 seconds RetCode: 0 Status: OK PackageFile: IVAS_2.12.0.zip PackageFileSize: 688.2 KiB