Package: IVAS Version: 2.12.0 Command: C:\Users\biocbuild\bbs-3.13-bioc\R\bin\R.exe CMD check --force-multiarch --install=check:IVAS.install-out.txt --library=C:\Users\biocbuild\bbs-3.13-bioc\R\library --no-vignettes --timings IVAS_2.12.0.tar.gz StartedAt: 2021-10-15 01:00:08 -0400 (Fri, 15 Oct 2021) EndedAt: 2021-10-15 01:06:59 -0400 (Fri, 15 Oct 2021) EllapsedTime: 410.3 seconds RetCode: 0 Status: WARNINGS CheckDir: IVAS.Rcheck Warnings: 1