Package: IdeoViz Version: 1.28.0 Command: chmod a+r IdeoViz -R && C:\Users\biocbuild\bbs-3.13-bioc\R\bin\R.exe CMD build --keep-empty-dirs --no-resave-data IdeoViz StartedAt: 2021-10-14 15:00:21 -0400 (Thu, 14 Oct 2021) EndedAt: 2021-10-14 15:01:47 -0400 (Thu, 14 Oct 2021) EllapsedTime: 85.7 seconds RetCode: 0 Status: OK PackageFile: IdeoViz_1.28.0.tar.gz PackageFileSize: 1017 KiB