Package: IdeoViz Version: 1.28.0 Command: C:\Users\biocbuild\bbs-3.13-bioc\R\bin\R.exe CMD check --force-multiarch --install=check:IdeoViz.install-out.txt --library=C:\Users\biocbuild\bbs-3.13-bioc\R\library --no-vignettes --timings IdeoViz_1.28.0.tar.gz StartedAt: 2021-10-15 00:36:38 -0400 (Fri, 15 Oct 2021) EndedAt: 2021-10-15 00:41:33 -0400 (Fri, 15 Oct 2021) EllapsedTime: 295.4 seconds RetCode: 0 Status: WARNINGS CheckDir: IdeoViz.Rcheck Warnings: 1