Package: IdeoViz Version: 1.28.0 Command: C:\cygwin\bin\curl.exe -O http://155.52.207.165/BBS/3.13/bioc/src/contrib/IdeoViz_1.28.0.tar.gz && rm -rf IdeoViz.buildbin-libdir && mkdir IdeoViz.buildbin-libdir && C:\Users\biocbuild\bbs-3.13-bioc\R\bin\R.exe CMD INSTALL --merge-multiarch --build --library=IdeoViz.buildbin-libdir IdeoViz_1.28.0.tar.gz && C:\Users\biocbuild\bbs-3.13-bioc\R\bin\R.exe CMD INSTALL IdeoViz_1.28.0.zip && rm IdeoViz_1.28.0.tar.gz IdeoViz_1.28.0.zip StartedAt: 2021-10-14 10:13:35 -0400 (Thu, 14 Oct 2021) EndedAt: 2021-10-14 10:14:38 -0400 (Thu, 14 Oct 2021) EllapsedTime: 62.8 seconds RetCode: 0 Status: OK