Package: ImmuneSpaceR Version: 1.20.0 Command: /Library/Frameworks/R.framework/Versions/Current/Resources/bin/R CMD check --install=check:ImmuneSpaceR.install-out.txt --library=/Library/Frameworks/R.framework/Versions/Current/Resources/library --no-vignettes --timings ImmuneSpaceR_1.20.0.tar.gz StartedAt: 2021-10-14 20:09:31 -0400 (Thu, 14 Oct 2021) EndedAt: 2021-10-14 20:11:28 -0400 (Thu, 14 Oct 2021) EllapsedTime: 117.5 seconds RetCode: 0 Status: OK CheckDir: ImmuneSpaceR.Rcheck Warnings: 0