Package: InPAS Version: 2.0.0 Command: /Library/Frameworks/R.framework/Versions/Current/Resources/bin/R CMD INSTALL InPAS StartedAt: 2021-10-14 10:11:19 -0400 (Thu, 14 Oct 2021) EndedAt: 2021-10-14 10:12:28 -0400 (Thu, 14 Oct 2021) EllapsedTime: 69.3 seconds RetCode: 0 Status: OK