Package: InPAS Version: 2.0.0 Command: /home/biocbuild/bbs-3.13-bioc/R/bin/R CMD build --keep-empty-dirs --no-resave-data InPAS StartedAt: 2021-10-14 07:31:58 -0400 (Thu, 14 Oct 2021) EndedAt: 2021-10-14 07:35:31 -0400 (Thu, 14 Oct 2021) EllapsedTime: 213.1 seconds RetCode: 0 Status: OK PackageFile: InPAS_2.0.0.tar.gz PackageFileSize: 1.404 MiB