Package: InPAS Version: 2.0.0 Command: /home/biocbuild/bbs-3.13-bioc/R/bin/R CMD INSTALL InPAS StartedAt: 2021-10-14 06:30:59 -0400 (Thu, 14 Oct 2021) EndedAt: 2021-10-14 06:31:39 -0400 (Thu, 14 Oct 2021) EllapsedTime: 40.6 seconds RetCode: 0 Status: OK