Package: IntEREst Version: 1.16.0 Command: rm -rf IntEREst.buildbin-libdir && mkdir IntEREst.buildbin-libdir && /Users/biocbuild/BBS/utils/build-universal.sh IntEREst_1.16.0.tar.gz /Library/Frameworks/R.framework/Versions/Current/Resources/bin/R IntEREst.buildbin-libdir StartedAt: 2021-10-15 02:49:15 -0400 (Fri, 15 Oct 2021) EndedAt: 2021-10-15 02:50:19 -0400 (Fri, 15 Oct 2021) EllapsedTime: 63.8 seconds RetCode: 0 Status: OK PackageFile: IntEREst_1.16.0.tgz PackageFileSize: 2.059 MiB