Package: IntEREst Version: 1.16.0 Command: /Library/Frameworks/R.framework/Versions/Current/Resources/bin/R CMD check --install=check:IntEREst.install-out.txt --library=/Library/Frameworks/R.framework/Versions/Current/Resources/library --no-vignettes --timings IntEREst_1.16.0.tar.gz StartedAt: 2021-10-14 20:15:01 -0400 (Thu, 14 Oct 2021) EndedAt: 2021-10-14 20:22:05 -0400 (Thu, 14 Oct 2021) EllapsedTime: 423.8 seconds RetCode: 0 Status: OK CheckDir: IntEREst.Rcheck Warnings: 0