Package: IntEREst Version: 1.16.0 Command: /home/biocbuild/bbs-3.13-bioc/R/bin/R CMD INSTALL IntEREst StartedAt: 2021-10-14 06:25:02 -0400 (Thu, 14 Oct 2021) EndedAt: 2021-10-14 06:25:47 -0400 (Thu, 14 Oct 2021) EllapsedTime: 44.6 seconds RetCode: 0 Status: OK