Package: IntEREst Version: 1.16.0 Command: rm -rf IntEREst.buildbin-libdir && mkdir IntEREst.buildbin-libdir && C:\Users\biocbuild\bbs-3.13-bioc\R\bin\R.exe CMD INSTALL --merge-multiarch --build --library=IntEREst.buildbin-libdir IntEREst_1.16.0.tar.gz StartedAt: 2021-10-15 09:57:25 -0400 (Fri, 15 Oct 2021) EndedAt: 2021-10-15 09:58:55 -0400 (Fri, 15 Oct 2021) EllapsedTime: 89.9 seconds RetCode: 0 Status: OK PackageFile: IntEREst_1.16.0.zip PackageFileSize: 2.066 MiB