Package: InteractiveComplexHeatmap Version: 1.0.0 Command: /Library/Frameworks/R.framework/Versions/Current/Resources/bin/R CMD build --keep-empty-dirs --no-resave-data InteractiveComplexHeatmap StartedAt: 2021-10-14 12:45:32 -0400 (Thu, 14 Oct 2021) EndedAt: 2021-10-14 12:46:12 -0400 (Thu, 14 Oct 2021) EllapsedTime: 40.1 seconds RetCode: 0 Status: OK PackageFile: InteractiveComplexHeatmap_1.0.0.tar.gz PackageFileSize: 815.1 KiB