Package: InteractiveComplexHeatmap Version: 1.0.0 Command: /Library/Frameworks/R.framework/Versions/Current/Resources/bin/R CMD check --install=check:InteractiveComplexHeatmap.install-out.txt --library=/Library/Frameworks/R.framework/Versions/Current/Resources/library --no-vignettes --timings InteractiveComplexHeatmap_1.0.0.tar.gz StartedAt: 2021-10-14 20:13:30 -0400 (Thu, 14 Oct 2021) EndedAt: 2021-10-14 20:15:34 -0400 (Thu, 14 Oct 2021) EllapsedTime: 123.8 seconds RetCode: 0 Status: OK CheckDir: InteractiveComplexHeatmap.Rcheck Warnings: 0