Package: IsoCorrectoRGUI Version: 1.8.0 Command: /Library/Frameworks/R.framework/Versions/Current/Resources/bin/R CMD build --keep-empty-dirs --no-resave-data IsoCorrectoRGUI StartedAt: 2021-10-14 12:48:02 -0400 (Thu, 14 Oct 2021) EndedAt: 2021-10-14 12:48:16 -0400 (Thu, 14 Oct 2021) EllapsedTime: 13.6 seconds RetCode: 0 Status: OK PackageFile: IsoCorrectoRGUI_1.8.0.tar.gz PackageFileSize: 438.5 KiB