Package: IsoCorrectoRGUI Version: 1.8.0 Command: /Library/Frameworks/R.framework/Versions/Current/Resources/bin/R CMD INSTALL IsoCorrectoRGUI StartedAt: 2021-10-14 09:44:18 -0400 (Thu, 14 Oct 2021) EndedAt: 2021-10-14 09:45:14 -0400 (Thu, 14 Oct 2021) EllapsedTime: 56.1 seconds RetCode: 0 Status: OK