Package: IsoformSwitchAnalyzeR Version: 1.14.1 Command: rm -rf IsoformSwitchAnalyzeR.buildbin-libdir && mkdir IsoformSwitchAnalyzeR.buildbin-libdir && C:\Users\biocbuild\bbs-3.13-bioc\R\bin\R.exe CMD INSTALL --merge-multiarch --build --library=IsoformSwitchAnalyzeR.buildbin-libdir IsoformSwitchAnalyzeR_1.14.1.tar.gz StartedAt: 2021-10-15 09:59:46 -0400 (Fri, 15 Oct 2021) EndedAt: 2021-10-15 10:01:13 -0400 (Fri, 15 Oct 2021) EllapsedTime: 86.8 seconds RetCode: 0 Status: OK PackageFile: IsoformSwitchAnalyzeR_1.14.1.zip PackageFileSize: 4.847 MiB