Package: KEGGREST Version: 1.32.0 Command: /Library/Frameworks/R.framework/Versions/Current/Resources/bin/R CMD build --keep-empty-dirs --no-resave-data KEGGREST StartedAt: 2021-10-14 12:51:01 -0400 (Thu, 14 Oct 2021) EndedAt: 2021-10-14 12:51:34 -0400 (Thu, 14 Oct 2021) EllapsedTime: 32.6 seconds RetCode: 0 Status: OK PackageFile: KEGGREST_1.32.0.tar.gz PackageFileSize: 25.27 KiB