Package: KEGGREST Version: 1.32.0 Command: /Library/Frameworks/R.framework/Versions/Current/Resources/bin/R CMD check --install=check:KEGGREST.install-out.txt --library=/Library/Frameworks/R.framework/Versions/Current/Resources/library --no-vignettes --timings KEGGREST_1.32.0.tar.gz StartedAt: 2021-10-14 20:26:19 -0400 (Thu, 14 Oct 2021) EndedAt: 2021-10-14 20:29:54 -0400 (Thu, 14 Oct 2021) EllapsedTime: 215.0 seconds RetCode: 0 Status: OK CheckDir: KEGGREST.Rcheck Warnings: 0