Package: KEGGREST Version: 1.32.0 Command: C:\cygwin\bin\curl.exe -O http://155.52.207.165/BBS/3.13/bioc/src/contrib/KEGGREST_1.32.0.tar.gz && rm -rf KEGGREST.buildbin-libdir && mkdir KEGGREST.buildbin-libdir && C:\Users\biocbuild\bbs-3.13-bioc\R\bin\R.exe CMD INSTALL --merge-multiarch --build --library=KEGGREST.buildbin-libdir KEGGREST_1.32.0.tar.gz && C:\Users\biocbuild\bbs-3.13-bioc\R\bin\R.exe CMD INSTALL KEGGREST_1.32.0.zip && rm KEGGREST_1.32.0.tar.gz KEGGREST_1.32.0.zip StartedAt: 2021-10-14 07:50:37 -0400 (Thu, 14 Oct 2021) EndedAt: 2021-10-14 07:51:28 -0400 (Thu, 14 Oct 2021) EllapsedTime: 50.7 seconds RetCode: 0 Status: OK